Package: DCATS Version: 1.5.0 Command: /home/biocbuild/bbs-3.21-bioc/R/bin/R CMD check --install=check:DCATS.install-out.txt --library=/home/biocbuild/bbs-3.21-bioc/R/site-library --timings DCATS_1.5.0.tar.gz StartedAt: 2025-02-16 21:19:47 -0500 (Sun, 16 Feb 2025) EndedAt: 2025-02-16 21:21:25 -0500 (Sun, 16 Feb 2025) EllapsedTime: 98.1 seconds RetCode: 0 Status: OK CheckDir: DCATS.Rcheck Warnings: 0