Package: DCATS Version: 1.5.0 Command: /Library/Frameworks/R.framework/Resources/bin/R CMD INSTALL DCATS StartedAt: 2025-02-05 15:31:22 -0500 (Wed, 05 Feb 2025) EndedAt: 2025-02-05 15:31:32 -0500 (Wed, 05 Feb 2025) EllapsedTime: 10.2 seconds RetCode: 0 Status: OK