Package: DCATS Version: 1.5.0 Command: /Library/Frameworks/R.framework/Resources/bin/R CMD check --install=check:DCATS.install-out.txt --library=/Library/Frameworks/R.framework/Resources/library --no-vignettes --timings DCATS_1.5.0.tar.gz StartedAt: 2025-02-05 19:56:32 -0500 (Wed, 05 Feb 2025) EndedAt: 2025-02-05 19:58:15 -0500 (Wed, 05 Feb 2025) EllapsedTime: 103.3 seconds RetCode: 0 Status: OK CheckDir: DCATS.Rcheck Warnings: 0