Package: DCATS Version: 1.5.0 Command: /Library/Frameworks/R.framework/Resources/bin/R CMD build --keep-empty-dirs --no-resave-data DCATS StartedAt: 2025-02-05 16:25:10 -0500 (Wed, 05 Feb 2025) EndedAt: 2025-02-05 16:25:28 -0500 (Wed, 05 Feb 2025) EllapsedTime: 18.2 seconds RetCode: 0 Status: OK PackageFile: DCATS_1.5.0.tar.gz PackageFileSize: 2.836 MiB