Package: DCATS Version: 1.5.0 Command: /home/biocbuild/R/R/bin/R CMD INSTALL DCATS StartedAt: 2025-01-29 20:17:06 -0000 (Wed, 29 Jan 2025) EndedAt: 2025-01-29 20:17:14 -0000 (Wed, 29 Jan 2025) EllapsedTime: 7.9 seconds RetCode: 0 Status: OK