Package: DCATS Version: 1.5.0 Command: /home/biocbuild/R/R/bin/R CMD check --install=check:DCATS.install-out.txt --library=/home/biocbuild/R/R/site-library --no-vignettes --timings DCATS_1.5.0.tar.gz StartedAt: 2025-01-28 09:45:35 -0000 (Tue, 28 Jan 2025) EndedAt: 2025-01-28 09:48:06 -0000 (Tue, 28 Jan 2025) EllapsedTime: 151.1 seconds RetCode: 0 Status: OK CheckDir: DCATS.Rcheck Warnings: 0