Package: DAPAR Version: 1.41.0 Command: chmod a+r DAPAR -R && F:\biocbuild\bbs-3.22-bioc\R\bin\R.exe CMD build --keep-empty-dirs --no-resave-data DAPAR StartedAt: 2025-08-14 19:30:06 -0400 (Thu, 14 Aug 2025) EndedAt: 2025-08-14 19:30:16 -0400 (Thu, 14 Aug 2025) EllapsedTime: 10.0 seconds RetCode: 0 Status: OK PackageFile: DAPAR_1.41.0.tar.gz PackageFileSize: 150.4 KiB