Package: DAMEfinder Version: 1.21.2 Command: /home/biocbuild/bbs-3.22-bioc/R/bin/R CMD INSTALL DAMEfinder StartedAt: 2025-10-15 15:45:39 -0400 (Wed, 15 Oct 2025) EndedAt: 2025-10-15 15:46:09 -0400 (Wed, 15 Oct 2025) EllapsedTime: 30.1 seconds RetCode: 0 Status: OK