Package: DAMEfinder Version: 1.21.2 Command: /home/biocbuild/bbs-3.22-bioc/R/bin/R CMD build --keep-empty-dirs --no-resave-data --md5 DAMEfinder StartedAt: 2025-10-14 17:10:28 -0400 (Tue, 14 Oct 2025) EndedAt: 2025-10-14 17:12:32 -0400 (Tue, 14 Oct 2025) EllapsedTime: 123.1 seconds RetCode: 0 Status: OK PackageFile: DAMEfinder_1.21.2.tar.gz PackageFileSize: 4.7 MiB