Package: CytoPipelineGUI Version: 1.7.0 Command: /home/biocbuild/bbs-3.22-bioc/R/bin/R CMD INSTALL CytoPipelineGUI StartedAt: 2025-07-25 17:46:01 -0400 (Fri, 25 Jul 2025) EndedAt: 2025-07-25 17:46:14 -0400 (Fri, 25 Jul 2025) EllapsedTime: 12.8 seconds RetCode: 0 Status: OK