Package: CytoPipelineGUI Version: 1.7.0 Command: /home/biocbuild/bbs-3.22-bioc/R/bin/R CMD build --keep-empty-dirs --no-resave-data --md5 CytoPipelineGUI StartedAt: 2025-07-25 19:04:19 -0400 (Fri, 25 Jul 2025) EndedAt: 2025-07-25 19:05:02 -0400 (Fri, 25 Jul 2025) EllapsedTime: 43.0 seconds RetCode: 0 Status: OK PackageFile: CytoPipelineGUI_1.7.0.tar.gz PackageFileSize: 1.47 MiB