Package: CytoML Version: 2.21.0 Command: /home/biocbuild/R/R/bin/R CMD INSTALL CytoML StartedAt: 2025-10-23 20:57:11 -0000 (Thu, 23 Oct 2025) EndedAt: 2025-10-23 20:58:37 -0000 (Thu, 23 Oct 2025) EllapsedTime: 85.7 seconds RetCode: 0 Status: OK