Package: CytoML Version: 2.19.1 Command: /home/biocbuild/bbs-3.21-bioc/R/bin/R CMD build --keep-empty-dirs --no-resave-data CytoML StartedAt: 2025-02-03 17:01:37 -0500 (Mon, 03 Feb 2025) EndedAt: 2025-02-03 17:03:04 -0500 (Mon, 03 Feb 2025) EllapsedTime: 87.1 seconds RetCode: 0 Status: OK PackageFile: CytoML_2.19.1.tar.gz PackageFileSize: 8.053 MiB