Package: CytoML Version: 2.21.0 Command: /Library/Frameworks/R.framework/Resources/bin/R CMD INSTALL CytoML StartedAt: 2025-05-02 15:29:43 -0400 (Fri, 02 May 2025) EndedAt: 2025-05-02 15:29:45 -0400 (Fri, 02 May 2025) EllapsedTime: 1.3 seconds RetCode: 1 Status: ERROR