Package: CytoML Version: 2.21.0 Command: /Library/Frameworks/R.framework/Resources/bin/R CMD build --keep-empty-dirs --no-resave-data CytoML StartedAt: 2025-05-04 16:28:33 -0400 (Sun, 04 May 2025) EndedAt: 2025-05-04 16:28:35 -0400 (Sun, 04 May 2025) EllapsedTime: 2.3 seconds RetCode: 1 Status: ERROR PackageFile: None PackageFileSize: NA