############################################################################## ############################################################################## ### ### Running command: ### ### /Library/Frameworks/R.framework/Resources/bin/R CMD build --keep-empty-dirs --no-resave-data CytoML ### ############################################################################## ############################################################################## * checking for file ‘CytoML/DESCRIPTION’ ... OK * preparing ‘CytoML’: * checking DESCRIPTION meta-information ... OK * cleaning src * installing the package to build vignettes ----------------------------------- ERROR: dependency ‘openCyto’ is not available for package ‘CytoML’ Perhaps try a variation of: install.packages('openCyto') * removing ‘/private/tmp/RtmpQyzqwf/Rinst143485288346e/CytoML’ ----------------------------------- ERROR: package installation failed