Package: CytoMDS Version: 1.3.5 Command: chmod a+r CytoMDS -R && E:\biocbuild\bbs-3.21-bioc\R\bin\R.exe CMD build --keep-empty-dirs --no-resave-data CytoMDS StartedAt: 2025-02-03 18:21:53 -0500 (Mon, 03 Feb 2025) EndedAt: 2025-02-03 18:25:46 -0500 (Mon, 03 Feb 2025) EllapsedTime: 233.3 seconds RetCode: 0 Status: OK PackageFile: CytoMDS_1.3.5.tar.gz PackageFileSize: 2.721 MiB