Package: CytoMDS Version: 1.3.5 Command: /home/biocbuild/bbs-3.21-bioc/R/bin/R CMD INSTALL CytoMDS StartedAt: 2025-02-03 15:42:16 -0500 (Mon, 03 Feb 2025) EndedAt: 2025-02-03 15:42:30 -0500 (Mon, 03 Feb 2025) EllapsedTime: 14.3 seconds RetCode: 0 Status: OK