Package: CytoMDS Version: 1.3.5 Command: /home/biocbuild/bbs-3.21-bioc/R/bin/R CMD check --install=check:CytoMDS.install-out.txt --library=/home/biocbuild/bbs-3.21-bioc/R/site-library --timings CytoMDS_1.3.5.tar.gz StartedAt: 2025-02-03 21:33:53 -0500 (Mon, 03 Feb 2025) EndedAt: 2025-02-03 21:42:31 -0500 (Mon, 03 Feb 2025) EllapsedTime: 518.6 seconds RetCode: 0 Status: OK CheckDir: CytoMDS.Rcheck Warnings: 0