Package: CytoMDS Version: 1.3.5 Command: /home/biocbuild/bbs-3.21-bioc/R/bin/R CMD build --keep-empty-dirs --no-resave-data CytoMDS StartedAt: 2025-02-03 17:01:28 -0500 (Mon, 03 Feb 2025) EndedAt: 2025-02-03 17:04:15 -0500 (Mon, 03 Feb 2025) EllapsedTime: 167.2 seconds RetCode: 0 Status: OK PackageFile: CytoMDS_1.3.5.tar.gz PackageFileSize: 5.241 MiB