Package: CytoMDS Version: 1.3.5 Command: /Library/Frameworks/R.framework/Resources/bin/R CMD build --keep-empty-dirs --no-resave-data CytoMDS StartedAt: 2025-02-03 16:29:05 -0500 (Mon, 03 Feb 2025) EndedAt: 2025-02-03 16:32:21 -0500 (Mon, 03 Feb 2025) EllapsedTime: 195.8 seconds RetCode: 0 Status: OK PackageFile: CytoMDS_1.3.5.tar.gz PackageFileSize: 5.034 MiB