Package: CytoMDS Version: 1.3.5 Command: /home/biocbuild/R/R/bin/R CMD INSTALL CytoMDS StartedAt: 2025-01-29 20:18:33 -0000 (Wed, 29 Jan 2025) EndedAt: 2025-01-29 20:18:53 -0000 (Wed, 29 Jan 2025) EllapsedTime: 20.0 seconds RetCode: 0 Status: OK