Package: CytoMDS Version: 1.3.5 Command: /home/biocbuild/R/R/bin/R CMD check --install=check:CytoMDS.install-out.txt --library=/home/biocbuild/R/R/site-library --no-vignettes --timings CytoMDS_1.3.5.tar.gz StartedAt: 2025-01-28 09:42:09 -0000 (Tue, 28 Jan 2025) EndedAt: 2025-01-28 09:49:49 -0000 (Tue, 28 Jan 2025) EllapsedTime: 460.4 seconds RetCode: 0 Status: OK CheckDir: CytoMDS.Rcheck Warnings: 0