Package: CytoDx Version: 1.29.0 Command: /home/biocbuild/bbs-3.22-bioc/R/bin/R CMD INSTALL CytoDx StartedAt: 2025-10-02 15:14:09 -0400 (Thu, 02 Oct 2025) EndedAt: 2025-10-02 15:14:19 -0400 (Thu, 02 Oct 2025) EllapsedTime: 10.3 seconds RetCode: 0 Status: OK