Package: CytoDx Version: 1.29.0 Command: /home/biocbuild/bbs-3.22-bioc/R/bin/R CMD build --keep-empty-dirs --no-resave-data --md5 CytoDx StartedAt: 2025-10-02 17:07:49 -0400 (Thu, 02 Oct 2025) EndedAt: 2025-10-02 17:08:09 -0400 (Thu, 02 Oct 2025) EllapsedTime: 20.0 seconds RetCode: 0 Status: OK PackageFile: CytoDx_1.29.0.tar.gz PackageFileSize: 662.7 KiB