Package: CyTOFpower Version: 1.15.0 Command: rm -rf CyTOFpower.buildbin-libdir && mkdir CyTOFpower.buildbin-libdir && F:\biocbuild\bbs-3.22-bioc\R\bin\R.exe CMD INSTALL --build --library=CyTOFpower.buildbin-libdir CyTOFpower_1.15.0.tar.gz StartedAt: 2025-08-15 10:04:20 -0400 (Fri, 15 Aug 2025) EndedAt: 2025-08-15 10:04:46 -0400 (Fri, 15 Aug 2025) EllapsedTime: 25.4 seconds RetCode: 0 Status: OK PackageFile: CyTOFpower_1.15.0.zip PackageFileSize: 556.9 KiB