Package: CuratedAtlasQueryR Version: 1.7.0 Command: /home/biocbuild/R/R/bin/R CMD INSTALL CuratedAtlasQueryR StartedAt: 2025-10-13 21:14:17 -0000 (Mon, 13 Oct 2025) EndedAt: 2025-10-13 21:15:06 -0000 (Mon, 13 Oct 2025) EllapsedTime: 48.4 seconds RetCode: 0 Status: OK