Package: CuratedAtlasQueryR Version: 1.7.0 Command: /home/biocbuild/R/R/bin/R CMD build --keep-empty-dirs --no-resave-data CuratedAtlasQueryR StartedAt: 2025-10-13 23:32:46 -0000 (Mon, 13 Oct 2025) EndedAt: 2025-10-13 23:35:28 -0000 (Mon, 13 Oct 2025) EllapsedTime: 162.0 seconds RetCode: 0 Status: OK PackageFile: CuratedAtlasQueryR_1.7.0.tar.gz PackageFileSize: 915.7 KiB