Package: CuratedAtlasQueryR Version: 1.5.0 Command: chmod a+r CuratedAtlasQueryR -R && E:\biocbuild\bbs-3.21-bioc\R\bin\R.exe CMD build --keep-empty-dirs --no-resave-data CuratedAtlasQueryR StartedAt: 2025-02-03 18:20:08 -0500 (Mon, 03 Feb 2025) EndedAt: 2025-02-03 18:23:14 -0500 (Mon, 03 Feb 2025) EllapsedTime: 185.7 seconds RetCode: 0 Status: OK PackageFile: CuratedAtlasQueryR_1.5.0.tar.gz PackageFileSize: 906.6 KiB