Package: CrispRVariants Version: 1.35.0 Command: E:\biocbuild\bbs-3.21-bioc\R\bin\R.exe CMD INSTALL CrispRVariants StartedAt: 2025-02-16 16:01:10 -0500 (Sun, 16 Feb 2025) EndedAt: 2025-02-16 16:02:53 -0500 (Sun, 16 Feb 2025) EllapsedTime: 102.3 seconds RetCode: 0 Status: OK