Package: CrispRVariants Version: 1.35.0 Command: /home/biocbuild/bbs-3.21-bioc/R/bin/R CMD check --install=check:CrispRVariants.install-out.txt --library=/home/biocbuild/bbs-3.21-bioc/R/site-library --timings CrispRVariants_1.35.0.tar.gz StartedAt: 2025-02-18 21:06:04 -0500 (Tue, 18 Feb 2025) EndedAt: 2025-02-18 21:12:42 -0500 (Tue, 18 Feb 2025) EllapsedTime: 398.5 seconds RetCode: 0 Status: WARNINGS CheckDir: CrispRVariants.Rcheck Warnings: 2