Package: CrispRVariants Version: 1.35.0 Command: /Library/Frameworks/R.framework/Resources/bin/R CMD check --install=check:CrispRVariants.install-out.txt --library=/Library/Frameworks/R.framework/Resources/library --no-vignettes --timings CrispRVariants_1.35.0.tar.gz StartedAt: 2025-02-16 19:41:10 -0500 (Sun, 16 Feb 2025) EndedAt: 2025-02-16 19:46:38 -0500 (Sun, 16 Feb 2025) EllapsedTime: 328.1 seconds RetCode: 0 Status: WARNINGS CheckDir: CrispRVariants.Rcheck Warnings: 2