Package: CrispRVariants Version: 1.35.0 Command: /Library/Frameworks/R.framework/Resources/bin/R CMD build --keep-empty-dirs --no-resave-data CrispRVariants StartedAt: 2025-02-20 16:01:14 -0500 (Thu, 20 Feb 2025) EndedAt: 2025-02-20 16:02:00 -0500 (Thu, 20 Feb 2025) EllapsedTime: 45.5 seconds RetCode: 0 Status: OK PackageFile: CrispRVariants_1.35.0.tar.gz PackageFileSize: 3.499 MiB