Package: CoverageView Version: 1.47.0 Command: /home/biocbuild/R/R/bin/R CMD INSTALL CoverageView StartedAt: 2025-10-09 21:21:54 -0000 (Thu, 09 Oct 2025) EndedAt: 2025-10-09 21:22:35 -0000 (Thu, 09 Oct 2025) EllapsedTime: 40.2 seconds RetCode: 0 Status: OK