Package: CoverageView Version: 1.47.0 Command: /home/biocbuild/bbs-3.22-bioc/R/bin/R CMD check --install=check:CoverageView.install-out.txt --library=/home/biocbuild/bbs-3.22-bioc/R/site-library --timings CoverageView_1.47.0.tar.gz StartedAt: 2025-10-23 22:27:44 -0400 (Thu, 23 Oct 2025) EndedAt: 2025-10-23 22:31:40 -0400 (Thu, 23 Oct 2025) EllapsedTime: 236.2 seconds RetCode: 0 Status: WARNINGS CheckDir: CoverageView.Rcheck Warnings: 1