Package: CoreGx Version: 2.13.0 Command: /Library/Frameworks/R.framework/Resources/bin/R CMD INSTALL CoreGx StartedAt: 2025-05-02 15:22:46 -0400 (Fri, 02 May 2025) EndedAt: 2025-05-02 15:23:37 -0400 (Fri, 02 May 2025) EllapsedTime: 51.3 seconds RetCode: 0 Status: OK