Package: CoreGx Version: 2.13.0 Command: /Library/Frameworks/R.framework/Resources/bin/R CMD check --install=check:CoreGx.install-out.txt --library=/Library/Frameworks/R.framework/Resources/library --no-vignettes --timings CoreGx_2.13.0.tar.gz StartedAt: 2025-05-05 19:52:46 -0400 (Mon, 05 May 2025) EndedAt: 2025-05-05 19:59:06 -0400 (Mon, 05 May 2025) EllapsedTime: 379.5 seconds RetCode: 0 Status: OK CheckDir: CoreGx.Rcheck Warnings: 0