Package: CoreGx Version: 2.13.0 Command: rm -rf CoreGx.buildbin-libdir && mkdir CoreGx.buildbin-libdir && /Users/biocbuild/BBS/utils/build-universal.sh CoreGx_2.13.0.tar.gz /Library/Frameworks/R.framework/Resources/bin/R CoreGx.buildbin-libdir StartedAt: 2025-05-08 23:09:13 -0400 (Thu, 08 May 2025) EndedAt: 2025-05-08 23:09:31 -0400 (Thu, 08 May 2025) EllapsedTime: 18.4 seconds RetCode: 0 Status: OK PackageFile: CoreGx_2.13.0.tgz PackageFileSize: 2.437 MiB