Package: CopyNumberPlots Version: 1.23.0 Command: /home/biocbuild/R/R/bin/R CMD check --install=check:CopyNumberPlots.install-out.txt --library=/home/biocbuild/R/R/site-library --no-vignettes --timings CopyNumberPlots_1.23.0.tar.gz StartedAt: 2025-01-28 09:27:20 -0000 (Tue, 28 Jan 2025) EndedAt: 2025-01-28 09:34:17 -0000 (Tue, 28 Jan 2025) EllapsedTime: 416.3 seconds RetCode: 0 Status: OK CheckDir: CopyNumberPlots.Rcheck Warnings: 0