Package: ConsensusClusterPlus Version: 1.71.0 Command: E:\biocbuild\bbs-3.21-bioc\R\bin\R.exe CMD INSTALL ConsensusClusterPlus StartedAt: 2025-02-03 15:39:05 -0500 (Mon, 03 Feb 2025) EndedAt: 2025-02-03 15:39:45 -0500 (Mon, 03 Feb 2025) EllapsedTime: 39.9 seconds RetCode: 0 Status: OK