Package: ConsensusClusterPlus Version: 1.71.0 Command: chmod a+r ConsensusClusterPlus -R && E:\biocbuild\bbs-3.21-bioc\R\bin\R.exe CMD build --keep-empty-dirs --no-resave-data ConsensusClusterPlus StartedAt: 2025-02-03 18:14:37 -0500 (Mon, 03 Feb 2025) EndedAt: 2025-02-03 18:15:13 -0500 (Mon, 03 Feb 2025) EllapsedTime: 36.5 seconds RetCode: 0 Status: OK PackageFile: ConsensusClusterPlus_1.71.0.tar.gz PackageFileSize: 166.7 KiB