Package: ConsensusClusterPlus Version: 1.71.0 Command: /home/biocbuild/bbs-3.21-bioc/R/bin/R CMD build --keep-empty-dirs --no-resave-data ConsensusClusterPlus StartedAt: 2025-02-03 16:54:47 -0500 (Mon, 03 Feb 2025) EndedAt: 2025-02-03 16:54:57 -0500 (Mon, 03 Feb 2025) EllapsedTime: 10.0 seconds RetCode: 0 Status: OK PackageFile: ConsensusClusterPlus_1.71.0.tar.gz PackageFileSize: 408.7 KiB