Package: ConsensusClusterPlus Version: 1.71.0 Command: /Library/Frameworks/R.framework/Resources/bin/R CMD check --install=check:ConsensusClusterPlus.install-out.txt --library=/Library/Frameworks/R.framework/Resources/library --no-vignettes --timings ConsensusClusterPlus_1.71.0.tar.gz StartedAt: 2025-02-03 19:46:25 -0500 (Mon, 03 Feb 2025) EndedAt: 2025-02-03 19:47:00 -0500 (Mon, 03 Feb 2025) EllapsedTime: 35.4 seconds RetCode: 0 Status: OK CheckDir: ConsensusClusterPlus.Rcheck Warnings: 0