Package: ConsensusClusterPlus Version: 1.71.0 Command: /Library/Frameworks/R.framework/Resources/bin/R CMD build --keep-empty-dirs --no-resave-data ConsensusClusterPlus StartedAt: 2025-02-03 16:24:12 -0500 (Mon, 03 Feb 2025) EndedAt: 2025-02-03 16:24:26 -0500 (Mon, 03 Feb 2025) EllapsedTime: 13.8 seconds RetCode: 0 Status: OK PackageFile: ConsensusClusterPlus_1.71.0.tar.gz PackageFileSize: 382.8 KiB