Package: ConsensusClusterPlus Version: 1.71.0 Command: rm -rf ConsensusClusterPlus.buildbin-libdir && mkdir ConsensusClusterPlus.buildbin-libdir && /Users/biocbuild/BBS/utils/build-universal.sh ConsensusClusterPlus_1.71.0.tar.gz /Library/Frameworks/R.framework/Resources/bin/R ConsensusClusterPlus.buildbin-libdir StartedAt: 2025-02-04 00:28:45 -0500 (Tue, 04 Feb 2025) EndedAt: 2025-02-04 00:28:52 -0500 (Tue, 04 Feb 2025) EllapsedTime: 7.0 seconds RetCode: 0 Status: OK PackageFile: ConsensusClusterPlus_1.71.0.tgz PackageFileSize: 412.4 KiB