Package: CompoundDb Version: 1.13.0 Command: /home/biocbuild/R/R/bin/R CMD INSTALL CompoundDb StartedAt: 2025-10-06 20:51:30 -0000 (Mon, 06 Oct 2025) EndedAt: 2025-10-06 20:51:57 -0000 (Mon, 06 Oct 2025) EllapsedTime: 27.3 seconds RetCode: 0 Status: OK