Package: CompoundDb Version: 1.13.0 Command: /home/biocbuild/R/R/bin/R CMD build --keep-empty-dirs --no-resave-data CompoundDb StartedAt: 2025-10-06 22:48:23 -0000 (Mon, 06 Oct 2025) EndedAt: 2025-10-06 22:49:12 -0000 (Mon, 06 Oct 2025) EllapsedTime: 49.0 seconds RetCode: 0 Status: OK PackageFile: CompoundDb_1.13.0.tar.gz PackageFileSize: 1.431 MiB