Package: CompoundDb Version: 1.13.0 Command: /home/biocbuild/bbs-3.22-bioc/R/bin/R CMD check --install=check:CompoundDb.install-out.txt --library=/home/biocbuild/bbs-3.22-bioc/R/site-library --timings CompoundDb_1.13.0.tar.gz StartedAt: 2025-10-21 22:27:28 -0400 (Tue, 21 Oct 2025) EndedAt: 2025-10-21 22:30:17 -0400 (Tue, 21 Oct 2025) EllapsedTime: 168.2 seconds RetCode: 0 Status: OK CheckDir: CompoundDb.Rcheck Warnings: 0