Package: CompoundDb Version: 1.11.2 Command: /Library/Frameworks/R.framework/Resources/bin/R CMD build --keep-empty-dirs --no-resave-data CompoundDb StartedAt: 2025-02-16 16:16:05 -0500 (Sun, 16 Feb 2025) EndedAt: 2025-02-16 16:16:51 -0500 (Sun, 16 Feb 2025) EllapsedTime: 45.8 seconds RetCode: 0 Status: OK PackageFile: CompoundDb_1.11.2.tar.gz PackageFileSize: 1.303 MiB