Package: CompoundDb Version: 1.11.2 Command: /home/biocbuild/R/R/bin/R CMD INSTALL CompoundDb StartedAt: 2025-01-29 20:29:49 -0000 (Wed, 29 Jan 2025) EndedAt: 2025-01-29 20:30:18 -0000 (Wed, 29 Jan 2025) EllapsedTime: 29.1 seconds RetCode: 0 Status: OK